BEGIN:VCALENDAR
VERSION:2.0
PRODID:-//hacksw/handcal//NONSGML v1.0//EN
BEGIN:VEVENT
SUMMARY:Stage Club piste
UID:d5d07f16-1f88-4cd6-a592-650b6ad9f379
DTSTART:20260411T080000Z
DTEND:20260412T150000Z
LOCATION:Localisation Stade Jean Bouin 49300 Cholet
CATEGORIES:Sportif
STATUS:
URL;VALUE=URI:https://www.choletathle.fr/evenements/2026/04/11/stage-club-piste-2439640
END:VEVENT
END:VCALENDAR
