BEGIN:VCALENDAR
VERSION:2.0
PRODID:-//hacksw/handcal//NONSGML v1.0//EN
BEGIN:VEVENT
SUMMARY:Championnat rgional equip'athl
UID:2a0c61ab-7833-4288-9021-98efec77325b
DTSTART:20260510T080000Z
DTEND:20260510T160000Z
LOCATION:Localisation Stade Andr Conty 72190 Coulaines
CATEGORIES:Sportif
STATUS:
URL;VALUE=URI:https://www.choletathle.fr/evenements/2026/05/10/championnat-rgional-equipathl-2439643
END:VEVENT
END:VCALENDAR
