BEGIN:VCALENDAR
VERSION:2.0
PRODID:-//hacksw/handcal//NONSGML v1.0//EN
BEGIN:VEVENT
SUMMARY:Championnat departemental 1ere journe
UID:7392aa2d-deed-445a-a196-e3e9b10f68aa
DTSTART:20260523T080000Z
DTEND:20260523T150000Z
LOCATION:Localisation Stade du Lac de Maine 49000 Angers
CATEGORIES:Sportif
STATUS:
URL;VALUE=URI:https://www.choletathle.fr/evenements/2026/05/23/championnat-departemental-1ere-journe-2439645
END:VEVENT
END:VCALENDAR
