BEGIN:VCALENDAR
VERSION:2.0
PRODID:-//hacksw/handcal//NONSGML v1.0//EN
BEGIN:VEVENT
SUMMARY:Meeting demi fond de l'Asec
UID:3f8efe5e-5cd9-4486-9312-85df1f3108b3
DTSTART:20260523T120000Z
DTEND:20260523T180000Z
LOCATION:Localisation Complexe sportif La Pommeraye 49620 La Pommeraye
CATEGORIES:Sportif
STATUS:
URL;VALUE=URI:https://www.choletathle.fr/evenements/2026/05/23/meeting-demi-fond-de-lasec-2439644
END:VEVENT
END:VCALENDAR
