BEGIN:VCALENDAR
VERSION:2.0
PRODID:-//hacksw/handcal//NONSGML v1.0//EN
BEGIN:VEVENT
SUMMARY:Meeting rgional du SEC
UID:1198d146-79e5-41f8-ac3a-324abecd15eb
DTSTART:20260530T140000Z
DTEND:20260530T200000Z
LOCATION:Localisation Stade de la Rudelire 85100 Les Sables d'Olonnes
CATEGORIES:Sportif
STATUS:
URL;VALUE=URI:https://www.choletathle.fr/evenements/2026/05/30/meeting-rgional-du-sec-2439646
END:VEVENT
END:VCALENDAR
