BEGIN:VCALENDAR
VERSION:2.0
PRODID:-//hacksw/handcal//NONSGML v1.0//EN
BEGIN:VEVENT
SUMMARY:Championnat Departemental 2e journe
UID:67b76f36-4aa0-4c41-9629-f4a4437f8f18
DTSTART:20260531T080000Z
DTEND:20260531T150000Z
LOCATION:Localisation Stade du Lac de Maine 49000 Angers
CATEGORIES:Sportif
STATUS:
URL;VALUE=URI:https://www.choletathle.fr/evenements/2026/05/31/championnat-departemental-2e-journe-2439647
END:VEVENT
END:VCALENDAR
