BEGIN:VCALENDAR
VERSION:2.0
PRODID:-//hacksw/handcal//NONSGML v1.0//EN
BEGIN:VEVENT
SUMMARY:Naoned Urban Trail (8/16/24)
UID:2127b13c-d3cf-4a82-bbca-df78741ff929
DTSTART:20260530T220000Z
DTEND:20260531T220000Z
LOCATION:Localisation stade Michel lecointre 44200 nantes
CATEGORIES:Sportif
STATUS:
URL;VALUE=URI:https://www.choletathle.fr/evenements/2026/05/31/naoned-urban-trail-81624-2422745
END:VEVENT
END:VCALENDAR
