BEGIN:VCALENDAR
VERSION:2.0
PRODID:-//hacksw/handcal//NONSGML v1.0//EN
BEGIN:VEVENT
SUMMARY:Championnat de France pointes d'or
UID:8f2e1769-076e-46b1-94c8-60aa4da62d63
DTSTART:20260604T080000Z
DTEND:20260605T150000Z
LOCATION:Localisation Stade Jean Bruck 28100 Dreux
CATEGORIES:Sportif
STATUS:
URL;VALUE=URI:https://www.choletathle.fr/evenements/2026/06/04/championnat-de-france-pointes-dor-2439655
END:VEVENT
END:VCALENDAR
