BEGIN:VCALENDAR
VERSION:2.0
PRODID:-//hacksw/handcal//NONSGML v1.0//EN
BEGIN:VEVENT
SUMMARY:Pr-France
UID:5362580a-f21e-47dd-bad4-abe90ab4adbd
DTSTART:20260604T080000Z
DTEND:20260605T150000Z
LOCATION:Localisation Stade Manuela Montebrun 53000 Laval
CATEGORIES:Sportif
STATUS:
URL;VALUE=URI:https://www.choletathle.fr/evenements/2026/06/04/pr-france-2439654
END:VEVENT
END:VCALENDAR
