BEGIN:VCALENDAR
VERSION:2.0
PRODID:-//hacksw/handcal//NONSGML v1.0//EN
BEGIN:VEVENT
SUMMARY:Championnat rgional pointes d'or
UID:e2ce866c-0b1e-4081-855f-816bfedff1c8
DTSTART:20260607T080000Z
DTEND:20260607T160000Z
LOCATION:Localisation Stade Jean Leveill 85300 Challans
CATEGORIES:Sportif
STATUS:
URL;VALUE=URI:https://www.choletathle.fr/evenements/2026/06/07/championnat-rgional-pointes-dor-2439649
END:VEVENT
END:VCALENDAR
