BEGIN:VCALENDAR
VERSION:2.0
PRODID:-//hacksw/handcal//NONSGML v1.0//EN
BEGIN:VEVENT
SUMMARY:Meeting rgional du RCN
UID:eca44250-0263-487a-b69e-4bf859a8ac65
DTSTART:20260607T080000Z
DTEND:20260607T150000Z
LOCATION:Localisation Stade Michel Lecointre Beaulieu 44200 Nantes
CATEGORIES:Sportif
STATUS:
URL;VALUE=URI:https://www.choletathle.fr/evenements/2026/06/07/meeting-rgional-du-rcn-2439648
END:VEVENT
END:VCALENDAR
