BEGIN:VCALENDAR
VERSION:2.0
PRODID:-//hacksw/handcal//NONSGML v1.0//EN
BEGIN:VEVENT
SUMMARY:Meeting Robert Bobin
UID:7e796782-9808-4ee8-b1ae-c43d940cded6
DTSTART:20260620T130000Z
DTEND:20260620T160000Z
LOCATION:Localisation Stade Roger Quintard 79140 Cerizay
CATEGORIES:Sportif
STATUS:
URL;VALUE=URI:https://www.choletathle.fr/evenements/2026/06/20/meeting-robert-bobin-2439650
END:VEVENT
END:VCALENDAR
