BEGIN:VCALENDAR
VERSION:2.0
PRODID:-//hacksw/handcal//NONSGML v1.0//EN
BEGIN:VEVENT
SUMMARY:Championnat rgional individuel U14/U16
UID:a61d7c2a-d82c-4704-b710-8d670b02b506
DTSTART:20260621T080000Z
DTEND:20260621T160000Z
LOCATION:Localisation 847 Av. Gutenberg 53100 Mayenne
CATEGORIES:Sportif
STATUS:
URL;VALUE=URI:https://www.choletathle.fr/evenements/2026/06/21/championnat-rgional-individuel-u14u16-2439652
END:VEVENT
END:VCALENDAR
