BEGIN:VCALENDAR
VERSION:2.0
PRODID:-//hacksw/handcal//NONSGML v1.0//EN
BEGIN:VEVENT
SUMMARY:Meeting de l'AC Chapelain
UID:7a0f380d-a440-4894-a5bd-bf769fa83754
DTSTART:20260621T130000Z
DTEND:20260621T170000Z
LOCATION:Localisation Complexe sportif du buisson de la Grolle 44240 La Chapelle sur Erdre
CATEGORIES:Sportif
STATUS:
URL;VALUE=URI:https://www.choletathle.fr/evenements/2026/06/21/meeting-de-lac-chapelain-2439651
END:VEVENT
END:VCALENDAR
