BEGIN:VCALENDAR
VERSION:2.0
PRODID:-//hacksw/handcal//NONSGML v1.0//EN
BEGIN:VEVENT
SUMMARY:Championnat rgional
UID:d58e90ab-e272-44ac-900f-fd2514712762
DTSTART:20260627T090000Z
DTEND:20260628T150000Z
LOCATION:Localisation Stade Bouchevereau 72200 La Flche
CATEGORIES:Sportif
STATUS:
URL;VALUE=URI:https://www.choletathle.fr/evenements/2026/06/27/championnat-rgional-2439653
END:VEVENT
END:VCALENDAR
