BEGIN:VCALENDAR
VERSION:2.0
PRODID:-//hacksw/handcal//NONSGML v1.0//EN
BEGIN:VEVENT
SUMMARY:Meeting CMO de l'Entente Sevre
UID:d29f0729-bdbd-4ddc-984e-396daeb58c7f
DTSTART:20260708T080000Z
DTEND:20260708T150000Z
LOCATION:Localisation Complexe sportif Georges Raymond 85290 St Laurent sur Sevre
CATEGORIES:Sportif
STATUS:
URL;VALUE=URI:https://www.choletathle.fr/evenements/2026/07/08/meeting-cmo-de-lentente-sevre-2439656
END:VEVENT
END:VCALENDAR
